BEGIN:VCALENDAR
VERSION:2.0
PRODID:-//Petawawa Horticultural Society - ECPv6.15.20//NONSGML v1.0//EN
CALSCALE:GREGORIAN
METHOD:PUBLISH
X-ORIGINAL-URL:https://petawawahorticultural.ca
X-WR-CALDESC:Events for Petawawa Horticultural Society
REFRESH-INTERVAL;VALUE=DURATION:PT1H
X-Robots-Tag:noindex
X-PUBLISHED-TTL:PT1H
BEGIN:VTIMEZONE
TZID:America/New_York
BEGIN:DAYLIGHT
TZOFFSETFROM:-0500
TZOFFSETTO:-0400
TZNAME:EDT
DTSTART:20250309T070000
END:DAYLIGHT
BEGIN:STANDARD
TZOFFSETFROM:-0400
TZOFFSETTO:-0500
TZNAME:EST
DTSTART:20251102T060000
END:STANDARD
BEGIN:DAYLIGHT
TZOFFSETFROM:-0500
TZOFFSETTO:-0400
TZNAME:EDT
DTSTART:20260308T070000
END:DAYLIGHT
BEGIN:STANDARD
TZOFFSETFROM:-0400
TZOFFSETTO:-0500
TZNAME:EST
DTSTART:20261101T060000
END:STANDARD
BEGIN:DAYLIGHT
TZOFFSETFROM:-0500
TZOFFSETTO:-0400
TZNAME:EDT
DTSTART:20270314T070000
END:DAYLIGHT
BEGIN:STANDARD
TZOFFSETFROM:-0400
TZOFFSETTO:-0500
TZNAME:EST
DTSTART:20271107T060000
END:STANDARD
END:VTIMEZONE
BEGIN:VEVENT
DTSTART;TZID=America/New_York:20260112T190000
DTEND;TZID=America/New_York:20260112T210000
DTSTAMP:20260420T200555
CREATED:20251204T190534Z
LAST-MODIFIED:20251204T192343Z
UID:2897-1768244400-1768251600@petawawahorticultural.ca
SUMMARY:Akosua Asare of re.Planted Farms
DESCRIPTION:Akosua Asare of re.Planted Farms \n\n\n\nTurning weeds into wealth: Harnessing nature’s unwanted for powerful fertilizer. \n\n\n\n📅 Date: Monday\, January 12th🍸 7:00 PM – 9:00 PM💲 Cost: Members – Free \n\n\n\n                Drop In – $5.00 \n\n\n\n Discover how to transform weeds into a valuable resource offering a sustainable solution for enriching soil.
URL:https://petawawahorticultural.ca/event/replanted/
LOCATION:Petawawa Legion\, 3583 Petawawa Blvd\, Petawawa\, Ontario\, K8H 2Y1\, Canada
CATEGORIES:Activities,Fundraising
ATTACH;FMTTYPE=image/jpeg:https://petawawahorticultural.ca/wp-content/uploads/2025/12/replanted.webp
END:VEVENT
END:VCALENDAR