BEGIN:VCALENDAR
VERSION:2.0
PRODID:-//Petawawa Horticultural Society - ECPv6.15.20//NONSGML v1.0//EN
CALSCALE:GREGORIAN
METHOD:PUBLISH
X-ORIGINAL-URL:https://petawawahorticultural.ca
X-WR-CALDESC:Events for Petawawa Horticultural Society
REFRESH-INTERVAL;VALUE=DURATION:PT1H
X-Robots-Tag:noindex
X-PUBLISHED-TTL:PT1H
BEGIN:VTIMEZONE
TZID:America/New_York
BEGIN:DAYLIGHT
TZOFFSETFROM:-0500
TZOFFSETTO:-0400
TZNAME:EDT
DTSTART:20240310T070000
END:DAYLIGHT
BEGIN:STANDARD
TZOFFSETFROM:-0400
TZOFFSETTO:-0500
TZNAME:EST
DTSTART:20241103T060000
END:STANDARD
BEGIN:DAYLIGHT
TZOFFSETFROM:-0500
TZOFFSETTO:-0400
TZNAME:EDT
DTSTART:20250309T070000
END:DAYLIGHT
BEGIN:STANDARD
TZOFFSETFROM:-0400
TZOFFSETTO:-0500
TZNAME:EST
DTSTART:20251102T060000
END:STANDARD
BEGIN:DAYLIGHT
TZOFFSETFROM:-0500
TZOFFSETTO:-0400
TZNAME:EDT
DTSTART:20260308T070000
END:DAYLIGHT
BEGIN:STANDARD
TZOFFSETFROM:-0400
TZOFFSETTO:-0500
TZNAME:EST
DTSTART:20261101T060000
END:STANDARD
END:VTIMEZONE
BEGIN:VEVENT
DTSTART;TZID=America/New_York:20251010T190000
DTEND;TZID=America/New_York:20251010T220000
DTSTAMP:20260421T010522
CREATED:20251010T230000Z
LAST-MODIFIED:20251111T155126Z
UID:1002-1760122800-1760133600@petawawahorticultural.ca
SUMMARY:Singo Bingo Night
DESCRIPTION:Trivia Night has been switched to be SINGO BINGO. This is our annual fundraiser and includes door prizes\, silent auction\, 50/50 draw and more. \n\n\n\nIf you’re like me and don’t know what Singo Bingo is\, you will be singing your heart out to tunes that may or may not be on your card. You’ll be dabbing song names instead of boring old numbers. Come and join in the fun. \n\n\n\nJoin us for an evening of fun and laughter.
URL:https://petawawahorticultural.ca/event/trivia-night-2/
LOCATION:Petawawa Legion\, 3583 Petawawa Blvd\, Petawawa\, Ontario\, K8H 2Y1\, Canada
CATEGORIES:Activities,Fundraising
ATTACH;FMTTYPE=image/jpeg:https://petawawahorticultural.ca/wp-content/uploads/2023/08/Singo-Bingo-Card-Sample-1.webp
END:VEVENT
END:VCALENDAR