BEGIN:VCALENDAR
VERSION:2.0
PRODID:-//Petawawa Horticultural Society - ECPv6.15.20//NONSGML v1.0//EN
CALSCALE:GREGORIAN
METHOD:PUBLISH
X-WR-CALNAME:Petawawa Horticultural Society
X-ORIGINAL-URL:https://petawawahorticultural.ca
X-WR-CALDESC:Events for Petawawa Horticultural Society
REFRESH-INTERVAL;VALUE=DURATION:PT1H
X-Robots-Tag:noindex
X-PUBLISHED-TTL:PT1H
BEGIN:VTIMEZONE
TZID:America/New_York
BEGIN:DAYLIGHT
TZOFFSETFROM:-0500
TZOFFSETTO:-0400
TZNAME:EDT
DTSTART:20240310T070000
END:DAYLIGHT
BEGIN:STANDARD
TZOFFSETFROM:-0400
TZOFFSETTO:-0500
TZNAME:EST
DTSTART:20241103T060000
END:STANDARD
BEGIN:DAYLIGHT
TZOFFSETFROM:-0500
TZOFFSETTO:-0400
TZNAME:EDT
DTSTART:20250309T070000
END:DAYLIGHT
BEGIN:STANDARD
TZOFFSETFROM:-0400
TZOFFSETTO:-0500
TZNAME:EST
DTSTART:20251102T060000
END:STANDARD
BEGIN:DAYLIGHT
TZOFFSETFROM:-0500
TZOFFSETTO:-0400
TZNAME:EDT
DTSTART:20260308T070000
END:DAYLIGHT
BEGIN:STANDARD
TZOFFSETFROM:-0400
TZOFFSETTO:-0500
TZNAME:EST
DTSTART:20261101T060000
END:STANDARD
END:VTIMEZONE
BEGIN:VEVENT
DTSTART;TZID=America/New_York:20250816T170000
DTEND;TZID=America/New_York:20250816T190000
DTSTAMP:20260421T040419
CREATED:20230828T154825Z
LAST-MODIFIED:20250710T185019Z
UID:936-1755363600-1755370800@petawawahorticultural.ca
SUMMARY:Annual BBQ and Potluck
DESCRIPTION:MEMBERS+1 ONLY EVENT\n\n\n\nTrillium Awards presentation and annual end-of-season BBQ & Potluck. Main course will be provided but as we will be at the Legion\, drinks will be available at the bar. \n\n\n\nLet us know if you will be joining and what your potluck contribution will be (dessert\, salad\, hors d’oeuvres\, etc.) \n\n\n\n\n\n\n\nIf you would like to participate in the Annual BBQ and Potluck but are not yet a member of the Petawawa Horticultural Society\, you can join below.\n\n\n\n\n\n\n\n\n\nJOIN US
URL:https://petawawahorticultural.ca/event/annual-bbq-and-potluck/
LOCATION:Petawawa Legion\, 3583 Petawawa Blvd\, Petawawa\, Ontario\, K8H 2Y1\, Canada
CATEGORIES:Activities
ATTACH;FMTTYPE=image/jpeg:https://petawawahorticultural.ca/wp-content/uploads/2024/09/Trillium-Winners_Jim-and-Lynn-Ward-1-scaled.avif
END:VEVENT
END:VCALENDAR