BEGIN:VCALENDAR
VERSION:2.0
PRODID:-//Petawawa Horticultural Society - ECPv6.15.20//NONSGML v1.0//EN
CALSCALE:GREGORIAN
METHOD:PUBLISH
X-ORIGINAL-URL:https://petawawahorticultural.ca
X-WR-CALDESC:Events for Petawawa Horticultural Society
REFRESH-INTERVAL;VALUE=DURATION:PT1H
X-Robots-Tag:noindex
X-PUBLISHED-TTL:PT1H
BEGIN:VTIMEZONE
TZID:America/New_York
BEGIN:DAYLIGHT
TZOFFSETFROM:-0500
TZOFFSETTO:-0400
TZNAME:EDT
DTSTART:20240310T070000
END:DAYLIGHT
BEGIN:STANDARD
TZOFFSETFROM:-0400
TZOFFSETTO:-0500
TZNAME:EST
DTSTART:20241103T060000
END:STANDARD
BEGIN:DAYLIGHT
TZOFFSETFROM:-0500
TZOFFSETTO:-0400
TZNAME:EDT
DTSTART:20250309T070000
END:DAYLIGHT
BEGIN:STANDARD
TZOFFSETFROM:-0400
TZOFFSETTO:-0500
TZNAME:EST
DTSTART:20251102T060000
END:STANDARD
BEGIN:DAYLIGHT
TZOFFSETFROM:-0500
TZOFFSETTO:-0400
TZNAME:EDT
DTSTART:20260308T070000
END:DAYLIGHT
BEGIN:STANDARD
TZOFFSETFROM:-0400
TZOFFSETTO:-0500
TZNAME:EST
DTSTART:20261101T060000
END:STANDARD
END:VTIMEZONE
BEGIN:VEVENT
DTSTART;TZID=America/New_York:20251208T170000
DTEND;TZID=America/New_York:20251208T170000
DTSTAMP:20260420T200302
CREATED:20251111T150840Z
LAST-MODIFIED:20251111T200201Z
UID:2877-1765213200-1765213200@petawawahorticultural.ca
SUMMARY:Annual Christmas Dinner
DESCRIPTION:🎄 Petawawa Horticultural Society Christmas Dinner  \n\n\n\nYou’re invited to join us for an evening of good food\, great company\, and holiday cheer! \n\n\n\n📅 Date: Monday\, December 8th🍸 Cocktail Hour: 5:00 PM – 6:00 PM🍽️ Dinner Served: 6:00 PM💲 Cost: $25.00 per plate \n\n\n\nCome celebrate the season with a traditional turkey dinner with all the fixin’s\, lovingly prepared by the Ladies Auxiliary\, and topped off with pie and ice cream for dessert. \n\n\n\nPayment Options:E-transfer to petawawahortpay@gmail.comOr pay cash to Lois \n\n\n\nRSVP by November 25th by:📧 Emailing petawawahorticulture@gmail.com📞 Or calling Lois at 613-735-8049 \n\n\n\nLet’s gather together to share stories\, laughter\, and the spirit of the holidays. \n\n\n\nWe look forward to celebrating with you!🌿 Petawawa Horticultural Society 🌿 \n\n\n\nFootnote:Guests with special dietary needs are warmly welcome to bring their own meal and join in the festive evening. There is no charge for those bringing their own food\, but please RSVP so we can reserve a seat for you.
URL:https://petawawahorticultural.ca/event/christmas2025/
LOCATION:Petawawa Legion\, 3583 Petawawa Blvd\, Petawawa\, Ontario\, K8H 2Y1\, Canada
CATEGORIES:Activities,Fundraising
ATTACH;FMTTYPE=image/png:https://petawawahorticultural.ca/wp-content/uploads/2025/11/xmasdinner.webp
END:VEVENT
END:VCALENDAR