BEGIN:VCALENDAR
VERSION:2.0
PRODID:-//Petawawa Horticultural Society - ECPv6.15.20//NONSGML v1.0//EN
CALSCALE:GREGORIAN
METHOD:PUBLISH
X-WR-CALNAME:Petawawa Horticultural Society
X-ORIGINAL-URL:https://petawawahorticultural.ca
X-WR-CALDESC:Events for Petawawa Horticultural Society
REFRESH-INTERVAL;VALUE=DURATION:PT1H
X-Robots-Tag:noindex
X-PUBLISHED-TTL:PT1H
BEGIN:VTIMEZONE
TZID:America/New_York
BEGIN:DAYLIGHT
TZOFFSETFROM:-0500
TZOFFSETTO:-0400
TZNAME:EDT
DTSTART:20240310T070000
END:DAYLIGHT
BEGIN:STANDARD
TZOFFSETFROM:-0400
TZOFFSETTO:-0500
TZNAME:EST
DTSTART:20241103T060000
END:STANDARD
BEGIN:DAYLIGHT
TZOFFSETFROM:-0500
TZOFFSETTO:-0400
TZNAME:EDT
DTSTART:20250309T070000
END:DAYLIGHT
BEGIN:STANDARD
TZOFFSETFROM:-0400
TZOFFSETTO:-0500
TZNAME:EST
DTSTART:20251102T060000
END:STANDARD
BEGIN:DAYLIGHT
TZOFFSETFROM:-0500
TZOFFSETTO:-0400
TZNAME:EDT
DTSTART:20260308T070000
END:DAYLIGHT
BEGIN:STANDARD
TZOFFSETFROM:-0400
TZOFFSETTO:-0500
TZNAME:EST
DTSTART:20261101T060000
END:STANDARD
END:VTIMEZONE
BEGIN:VEVENT
DTSTART;TZID=America/New_York:20250430T230000
DTEND;TZID=America/New_York:20250731T225959
DTSTAMP:20260421T035333
CREATED:20230828T175054Z
LAST-MODIFIED:20250710T185143Z
UID:960-1746054000-1754002799@petawawahorticultural.ca
SUMMARY:Trillium Award Nominations
DESCRIPTION:Have you seen any beautiful yards that should be award winning yards? Please nominate friends and neighbors you think may be deserving of recognition and submit your nominations. Deadline for trillium awards nominations for 2025 is July 31st. Visit the Trillium Awards Program page for details. \n\n\n\nWhat are the Trillium Awards?\n\n\n\nThe Trillium Awards program promotes community pride by recognizing residents who\, by landscaping and maintaining their property\, contribute to a more attractive neighbourhood and community. Properties in the Town of Petawawa are reviewed and considered for the Trillium Awards.
URL:https://petawawahorticultural.ca/event/trillium-award-nomination-deadline/
LOCATION:Ontario
CATEGORIES:Activities
ATTACH;FMTTYPE=image/jpeg:https://petawawahorticultural.ca/wp-content/uploads/2023/08/20220517_Trillium-scaled-e1692709575499.jpg
END:VEVENT
END:VCALENDAR